BEGIN:VCALENDAR
VERSION:2.0
PRODID:-//Clarksburg Baptist Church - ECPv4.3.3//NONSGML v1.0//EN
CALSCALE:GREGORIAN
METHOD:PUBLISH
X-WR-CALNAME:Clarksburg Baptist Church
X-ORIGINAL-URL:https://clarksburgbaptistchurch.com
X-WR-CALDESC:Events for Clarksburg Baptist Church
BEGIN:VEVENT
DTSTART;TZID=America/New_York:20161105T100000
DTEND;TZID=America/New_York:20161105T160000
DTSTAMP:20260420T224849
CREATED:20160925T082502Z
LAST-MODIFIED:20160925T082542Z
UID:13238-1478354400-1478376000@clarksburgbaptistchurch.com
SUMMARY:World Market 2016
DESCRIPTION:Mark your calendar for World Market 2016 on Saturday\, November 5 from 10AM-4PM. The World Market features all fair trade items such as jewelry\, home goods\, bags\, coffee\, vanilla\, chocolate\, spices\, Christmas decorations\, and more! 100% of the money goes directly back to the organizations to allow them to create sustainable incomes for the people they employ. Your purchases will help provide things like food\, rent\, education\, and a sense of pride and self-worth to people all over the world!
URL:https://clarksburgbaptistchurch.com/calendar/world-market-2016
LOCATION:501 W. Pike St.\, Clarksburg\, WV\, 26301\, United States
GEO:39.2813201;-80.3427216
X-APPLE-STRUCTURED-LOCATION;VALUE=URI;X-ADDRESS=501 W. Pike St. Clarksburg WV 26301 United States;X-APPLE-RADIUS=500;X-TITLE=501 W. Pike St.:geo:-80.3427216,39.2813201
CATEGORIES:Mission & Outreach
ATTACH;FMTTYPE=image/jpeg:https://clarksburgbaptistchurch.com/wp-content/uploads/2016/09/CBC1610-World-Market.jpg
END:VEVENT
END:VCALENDAR