BEGIN:VCALENDAR
VERSION:2.0
PRODID:-//Clarksburg Baptist Church - ECPv4.3.3//NONSGML v1.0//EN
CALSCALE:GREGORIAN
METHOD:PUBLISH
X-WR-CALNAME:Clarksburg Baptist Church
X-ORIGINAL-URL:https://clarksburgbaptistchurch.com
X-WR-CALDESC:Events for Clarksburg Baptist Church
BEGIN:VEVENT
DTSTART;TZID=America/New_York:20151114T100000
DTEND;TZID=America/New_York:20151114T160000
DTSTAMP:20260420T030350
CREATED:20151008T164327Z
LAST-MODIFIED:20151008T164327Z
UID:9282-1447513200-1447534800@clarksburgbaptistchurch.com
SUMMARY:World Market 2015
DESCRIPTION:Mark your calendar for the 2015 World Market on Saturday\, November 14 from 10AM-4PM. The World Market features all fair trade items such as jewelry\, home goods\, bags\, coffee\, vanilla\, chocolate\, spices\, Christmas decorations\, and more! 100% of the money goes directly back to the organizations to allow them to create sustainable incomes for the people they employ. Your purchases will help provide things like food\, rent\, education\, and a sense of pride and self-worth to people all over the world.
URL:https://clarksburgbaptistchurch.com/calendar/world-market-2015
LOCATION:501 W. Pike St.\, Clarksburg\, WV\, 26301\, United States
GEO:39.2813201;-80.3427216
X-APPLE-STRUCTURED-LOCATION;VALUE=URI;X-ADDRESS=501 W. Pike St. Clarksburg WV 26301 United States;X-APPLE-RADIUS=500;X-TITLE=501 W. Pike St.:geo:-80.3427216,39.2813201
CATEGORIES:Community
ATTACH;FMTTYPE=image/jpeg:https://clarksburgbaptistchurch.com/wp-content/uploads/2015/10/CBC1510-World-Market-Slide.jpg
END:VEVENT
END:VCALENDAR