BEGIN:VCALENDAR
VERSION:2.0
PRODID:-//Clarksburg Baptist Church - ECPv4.3.3//NONSGML v1.0//EN
CALSCALE:GREGORIAN
METHOD:PUBLISH
X-WR-CALNAME:Clarksburg Baptist Church
X-ORIGINAL-URL:https://clarksburgbaptistchurch.com
X-WR-CALDESC:Events for Clarksburg Baptist Church
BEGIN:VEVENT
DTSTART;TZID=America/New_York:20251026T183000
DTEND;TZID=America/New_York:20251026T190000
DTSTAMP:20260420T102334
CREATED:20250930T105135Z
LAST-MODIFIED:20250930T105135Z
UID:42603-1761517800-1761519600@clarksburgbaptistchurch.com
SUMMARY:Trunk or Treat
DESCRIPTION:Join us for Trunk or Treat on October 26 at in our parking lot! Everyone is invited for a night of family fun. Visit clarksburgbaptistchurch.com/signup to sign up to decorate a trunk.
URL:https://clarksburgbaptistchurch.com/calendar/trunk-treat-2025
LOCATION:501 W. Pike St.\, Clarksburg\, WV\, 26301\, United States
GEO:39.2813201;-80.3427216
X-APPLE-STRUCTURED-LOCATION;VALUE=URI;X-ADDRESS=501 W. Pike St. Clarksburg WV 26301 United States;X-APPLE-RADIUS=500;X-TITLE=501 W. Pike St.:geo:-80.3427216,39.2813201
ATTACH;FMTTYPE=image/png:https://clarksburgbaptistchurch.com/wp-content/uploads/2025/09/App-banners-84.png
END:VEVENT
END:VCALENDAR