BEGIN:VCALENDAR
VERSION:2.0
PRODID:-//Clarksburg Baptist Church - ECPv4.3.3//NONSGML v1.0//EN
CALSCALE:GREGORIAN
METHOD:PUBLISH
X-WR-CALNAME:Clarksburg Baptist Church
X-ORIGINAL-URL:https://clarksburgbaptistchurch.com
X-WR-CALDESC:Events for Clarksburg Baptist Church
BEGIN:VEVENT
DTSTART;TZID=America/New_York:20210713T131500
DTEND;TZID=America/New_York:20210713T180000
DTSTAMP:20260420T030854
CREATED:20210708T141012Z
LAST-MODIFIED:20210708T141128Z
UID:32497-1626196500-1626213600@clarksburgbaptistchurch.com
SUMMARY:Student Life Ace Adventure Water Park
DESCRIPTION:Students (grades 6-12) will be going to Ace Adventure Water Park at Tygart Lake on July 13th from 2-6.\n\nMeet at CBC to leave by 1:15. Afterward\, we will be eating dinner at Simpson Creek Baptist Church. Bring $10 to cover ticket cost\, and invite a friend!\n\nContact Pastor Josh (jweddle@clarksburgbaptistchurch.com) if you are interested in going.
URL:https://clarksburgbaptistchurch.com/calendar/student-life-ace-adventure-water-park
LOCATION:501 W. Pike St.\, Clarksburg\, WV\, 26301\, United States
GEO:39.2813201;-80.3427216
X-APPLE-STRUCTURED-LOCATION;VALUE=URI;X-ADDRESS=501 W. Pike St. Clarksburg WV 26301 United States;X-APPLE-RADIUS=500;X-TITLE=501 W. Pike St.:geo:-80.3427216,39.2813201
CATEGORIES:StudentLife Ministry
ATTACH;FMTTYPE=image/png:https://clarksburgbaptistchurch.com/wp-content/uploads/2021/07/Copy-of-Ace-Adventure-Water-Park-at-Tygart-Lake.png
END:VEVENT
END:VCALENDAR