BEGIN:VCALENDAR
VERSION:2.0
PRODID:-//Clarksburg Baptist Church - ECPv4.3.3//NONSGML v1.0//EN
CALSCALE:GREGORIAN
METHOD:PUBLISH
X-WR-CALNAME:Clarksburg Baptist Church
X-ORIGINAL-URL:https://clarksburgbaptistchurch.com
X-WR-CALDESC:Events for Clarksburg Baptist Church
BEGIN:VEVENT
DTSTART;TZID=America/New_York:20230421T190000
DTEND;TZID=America/New_York:20230422T010000
DTSTAMP:20260419T083925
CREATED:20230329T105836Z
LAST-MODIFIED:20230329T105836Z
UID:37794-1682118000-1682139600@clarksburgbaptistchurch.com
SUMMARY:Secret Church
DESCRIPTION:We are excited to be hosting Secret Church this year which is a multi-site event featuring Pastor and Author\, David Platt. On Friday\, April 21\, people all around the world will gather together at their local host sites and do a deep dive into the book of Jonah\, pray for the persecuted church in Iran\, and be challenged to live on mission. Each participant will receive a guided scripture journal so sign up today to make sure you receive a journal. The cost is $10 per person\, but high school and college students may attend for free! Sign up at clarksburgbaptistchurch.com/secretchurch.
URL:https://clarksburgbaptistchurch.com/calendar/secret-church
LOCATION:501 W. Pike St.\, Clarksburg\, WV\, 26301\, United States
GEO:39.2813201;-80.3427216
X-APPLE-STRUCTURED-LOCATION;VALUE=URI;X-ADDRESS=501 W. Pike St. Clarksburg WV 26301 United States;X-APPLE-RADIUS=500;X-TITLE=501 W. Pike St.:geo:-80.3427216,39.2813201
CATEGORIES:Adult Ministries
ATTACH;FMTTYPE=image/png:https://clarksburgbaptistchurch.com/wp-content/uploads/2023/03/App-banners-70.png
END:VEVENT
END:VCALENDAR