BEGIN:VCALENDAR
VERSION:2.0
PRODID:-//Clarksburg Baptist Church - ECPv4.3.3//NONSGML v1.0//EN
CALSCALE:GREGORIAN
METHOD:PUBLISH
X-WR-CALNAME:Clarksburg Baptist Church
X-ORIGINAL-URL:https://clarksburgbaptistchurch.com
X-WR-CALDESC:Events for Clarksburg Baptist Church
BEGIN:VEVENT
DTSTART;TZID=America/New_York:20230427T180000
DTEND;TZID=America/New_York:20230427T200000
DTSTAMP:20260419T105448
CREATED:20230411T155638Z
LAST-MODIFIED:20230421T125600Z
UID:38051-1682632800-1682640000@clarksburgbaptistchurch.com
SUMMARY:Middle School Connect
DESCRIPTION:Middle school students\, meet us in the Underground on April 27 for game night! Connect nights are a great way to have fun together and build deeper relationships with each other. Invite some friends to join you.
URL:https://clarksburgbaptistchurch.com/calendar/middle-school-connect-4
LOCATION:501 W. Pike St.\, Clarksburg\, WV\, 26301\, United States
GEO:39.2813201;-80.3427216
X-APPLE-STRUCTURED-LOCATION;VALUE=URI;X-ADDRESS=501 W. Pike St. Clarksburg WV 26301 United States;X-APPLE-RADIUS=500;X-TITLE=501 W. Pike St.:geo:-80.3427216,39.2813201
CATEGORIES:StudentLife Ministry
ATTACH;FMTTYPE=image/png:https://clarksburgbaptistchurch.com/wp-content/uploads/2023/04/App-banners-85.png
END:VEVENT
END:VCALENDAR