BEGIN:VCALENDAR
VERSION:2.0
PRODID:-//Clarksburg Baptist Church - ECPv4.3.3//NONSGML v1.0//EN
CALSCALE:GREGORIAN
METHOD:PUBLISH
X-WR-CALNAME:Clarksburg Baptist Church
X-ORIGINAL-URL:https://clarksburgbaptistchurch.com
X-WR-CALDESC:Events for Clarksburg Baptist Church
BEGIN:VEVENT
DTSTART;TZID=America/New_York:20180321T173000
DTEND;TZID=America/New_York:20180321T190000
DTSTAMP:20260422T094111
CREATED:20180207T145407Z
LAST-MODIFIED:20180325T004455Z
UID:19887-1521667800-1521673200@clarksburgbaptistchurch.com
SUMMARY:Men’s Weekly LifeGroup
DESCRIPTION:The Men's Weekly LifeGroup meets every Wednesday evening at 6:30 p.m. in the Monroe Building. The group is going to start by studying a great series called “Every Man\, God’s Man” which looks at developing a courageous faith and daily integrity.\n\nThis LifeGroup does not take the place of the Monthly Men’s LifeGroup that meets the second Wednesday of each month.
URL:https://clarksburgbaptistchurch.com/calendar/mens-weekly-lifegroup-2018-03-21/2018-03-21
LOCATION:501 W. Pike St.\, Clarksburg\, WV\, 26301\, United States
GEO:39.2813201;-80.3427216
X-APPLE-STRUCTURED-LOCATION;VALUE=URI;X-ADDRESS=501 W. Pike St. Clarksburg WV 26301 United States;X-APPLE-RADIUS=500;X-TITLE=501 W. Pike St.:geo:-80.3427216,39.2813201
CATEGORIES:Adult Ministries,Men's Ministry
ATTACH;FMTTYPE=image/jpeg:https://clarksburgbaptistchurch.com/wp-content/uploads/2018/02/CBC1802-Mens-Weekly-LifeGroup.jpg
END:VEVENT
END:VCALENDAR