BEGIN:VCALENDAR
VERSION:2.0
PRODID:-//Clarksburg Baptist Church - ECPv4.3.3//NONSGML v1.0//EN
CALSCALE:GREGORIAN
METHOD:PUBLISH
X-WR-CALNAME:Clarksburg Baptist Church
X-ORIGINAL-URL:https://clarksburgbaptistchurch.com
X-WR-CALDESC:Events for Clarksburg Baptist Church
BEGIN:VEVENT
DTSTART;TZID=America/New_York:20231018T183000
DTEND;TZID=America/New_York:20231018T200000
DTSTAMP:20260420T070619
CREATED:20231016T093001Z
LAST-MODIFIED:20231016T093001Z
UID:39142-1697668200-1697673600@clarksburgbaptistchurch.com
SUMMARY:Ladies Night Out
DESCRIPTION:At CBC\, we believe life is best lived in community. A perfect way to experience this community is by participating in events with our Women’s Ministry. On Wednesday\, October 18th\, we will host our Ladies Night Out dinner at Mountain State in Bridgeport at 6:30. We ask that you bring a friend or two and cash to help cover the cost of the food. If you have any questions\, please get in touch with Pastor Scott.\n
URL:https://clarksburgbaptistchurch.com/calendar/ladies-night-out-2
LOCATION:740 Genesis Blvd\, Bridgeport\, WV\, 26330\, United States
ATTACH;FMTTYPE=image/png:https://clarksburgbaptistchurch.com/wp-content/uploads/2023/10/App-banners-22.png
END:VEVENT
END:VCALENDAR