BEGIN:VCALENDAR
VERSION:2.0
PRODID:-//Clarksburg Baptist Church - ECPv4.3.3//NONSGML v1.0//EN
CALSCALE:GREGORIAN
METHOD:PUBLISH
X-WR-CALNAME:Clarksburg Baptist Church
X-ORIGINAL-URL:https://clarksburgbaptistchurch.com
X-WR-CALDESC:Events for Clarksburg Baptist Church
BEGIN:VEVENT
DTSTART;TZID=America/New_York:20251207T080000
DTEND;TZID=America/New_York:20251207T170000
DTSTAMP:20260420T072018
CREATED:20251130T132909Z
LAST-MODIFIED:20251130T133003Z
UID:43734-1765112400-1765144800@clarksburgbaptistchurch.com
SUMMARY:Ladies Christmas Party
DESCRIPTION:Invite a friend to join you at our Ladies Christmas Party at the Robinson Grand and bring a dessert or appetizer to share. You also have a chance to show off your creativity for the table decorating contest. The theme is Christmas in Bethlehem so you can use your favorite nativity and decorations. Visit clarksburgbaptistchurch.com/signup and let us know you'll be there. 
URL:https://clarksburgbaptistchurch.com/calendar/ladies-christmas-party-2025
LOCATION:444 W Pike S\, Clarksburg\, WV\, 26301\, United States
ATTACH;FMTTYPE=image/png:https://clarksburgbaptistchurch.com/wp-content/uploads/2025/11/App-banners-2025-11-30T132428.259.png
END:VEVENT
END:VCALENDAR