BEGIN:VCALENDAR
VERSION:2.0
PRODID:-//Clarksburg Baptist Church - ECPv4.3.3//NONSGML v1.0//EN
CALSCALE:GREGORIAN
METHOD:PUBLISH
X-WR-CALNAME:Clarksburg Baptist Church
X-ORIGINAL-URL:https://clarksburgbaptistchurch.com
X-WR-CALDESC:Events for Clarksburg Baptist Church
BEGIN:VEVENT
DTSTART;TZID=America/New_York:20160327T111500
DTEND;TZID=America/New_York:20160327T121500
DTSTAMP:20260421T001913
CREATED:20160317T114013Z
LAST-MODIFIED:20160318T021522Z
UID:11185-1459091700-1459095300@clarksburgbaptistchurch.com
SUMMARY:Easter Celebration Service
DESCRIPTION:Join us on Sunday\, March 27\, at 11:15AM for a special Easter Celebration Service\, as we celebrate our hope – the risen King Jesus! There will also be special music from our worship band\, choir\, and the incredible kids from Clubhouse252! Be sure to invite your family and friends to this exciting morning of worship! (There will be no 9AM worship service or Clubhouse252.)\n\nEaster Sunday Schedule\n9AM – Easter Breakfast\n10AM – LifeGroups for All Ages\n11:15AM – All-Church Easter Celebration Service
URL:https://clarksburgbaptistchurch.com/calendar/easter-celebration-service-2
LOCATION:501 W. Pike St.\, Clarksburg\, WV\, 26301\, United States
GEO:39.2813201;-80.3427216
X-APPLE-STRUCTURED-LOCATION;VALUE=URI;X-ADDRESS=501 W. Pike St. Clarksburg WV 26301 United States;X-APPLE-RADIUS=500;X-TITLE=501 W. Pike St.:geo:-80.3427216,39.2813201
CATEGORIES:Worship
ATTACH;FMTTYPE=image/jpeg:https://clarksburgbaptistchurch.com/wp-content/uploads/2016/03/CBC1603-Easter-Celebration-Service-v3.jpg
END:VEVENT
END:VCALENDAR