BEGIN:VCALENDAR
VERSION:2.0
PRODID:-//Clarksburg Baptist Church - ECPv4.3.3//NONSGML v1.0//EN
CALSCALE:GREGORIAN
METHOD:PUBLISH
X-WR-CALNAME:Clarksburg Baptist Church
X-ORIGINAL-URL:https://clarksburgbaptistchurch.com
X-WR-CALDESC:Events for Clarksburg Baptist Church
BEGIN:VEVENT
DTSTART;TZID=America/New_York:20180922T170000
DTEND;TZID=America/New_York:20180922T200000
DTSTAMP:20260423T044626
CREATED:20180909T145321Z
LAST-MODIFIED:20180909T145321Z
UID:21277-1537650000-1537660800@clarksburgbaptistchurch.com
SUMMARY:Community Block Party
DESCRIPTION:Mark your calendar and invite your friends and family to the CBC Community Block Party on Saturday\, September 22\, at 5PM in the church parking lot. There will be games\, an inflatable bounce house\, face painting\, and a dunk tank\, as well as free food and drinks with football on the big screen. We can't wait for this special outreach event!
URL:https://clarksburgbaptistchurch.com/calendar/community-block-party
LOCATION:501 W. Pike St.\, Clarksburg\, WV\, 26301\, United States
GEO:39.2813201;-80.3427216
X-APPLE-STRUCTURED-LOCATION;VALUE=URI;X-ADDRESS=501 W. Pike St. Clarksburg WV 26301 United States;X-APPLE-RADIUS=500;X-TITLE=501 W. Pike St.:geo:-80.3427216,39.2813201
CATEGORIES:Community
ATTACH;FMTTYPE=image/jpeg:https://clarksburgbaptistchurch.com/wp-content/uploads/2018/09/CBC1808-Block-Party.jpg
END:VEVENT
END:VCALENDAR