BEGIN:VCALENDAR
VERSION:2.0
PRODID:-//Clarksburg Baptist Church - ECPv4.3.3//NONSGML v1.0//EN
CALSCALE:GREGORIAN
METHOD:PUBLISH
X-WR-CALNAME:Clarksburg Baptist Church
X-ORIGINAL-URL:https://clarksburgbaptistchurch.com
X-WR-CALDESC:Events for Clarksburg Baptist Church
BEGIN:VEVENT
DTSTART;TZID=America/New_York:20150705T173000
DTEND;TZID=America/New_York:20150705T203000
DTSTAMP:20260419T175031
CREATED:20150605T005350Z
LAST-MODIFIED:20150605T005438Z
UID:9099-1436131800-1436142600@clarksburgbaptistchurch.com
SUMMARY:Church-Wide Picnic & Pool Party
DESCRIPTION:Mark your calendars for our annual church-wide Picnic and Pool Party on July 5th at 5:30PM at the Veteran's Memorial Park in the Sycamore Shelter! After the cookout\, there will be FREE swimming at the Splash Zone!\n\nPlease bring a covered dish if possible. Hot dogs\, hamburgers\, and drinks will be provided.
URL:https://clarksburgbaptistchurch.com/calendar/church-wide-picnic-pool-party
LOCATION:WV-98\, Clarksburg\, WV\, 26301\, United States
GEO:39.2856719;-80.3343773
X-APPLE-STRUCTURED-LOCATION;VALUE=URI;X-ADDRESS=WV-98 Clarksburg WV 26301 United States;X-APPLE-RADIUS=500;X-TITLE=WV-98:geo:-80.3343773,39.2856719
CATEGORIES:Community
ATTACH;FMTTYPE=image/png:https://clarksburgbaptistchurch.com/wp-content/uploads/2015/06/CBC1506-Picnic-Pool-Party-Slide.png
END:VEVENT
END:VCALENDAR