BEGIN:VCALENDAR
VERSION:2.0
PRODID:-//Clarksburg Baptist Church - ECPv4.3.3//NONSGML v1.0//EN
CALSCALE:GREGORIAN
METHOD:PUBLISH
X-WR-CALNAME:Clarksburg Baptist Church
X-ORIGINAL-URL:https://clarksburgbaptistchurch.com
X-WR-CALDESC:Events for Clarksburg Baptist Church
BEGIN:VEVENT
DTSTART;TZID=America/New_York:20170411T183000
DTEND;TZID=America/New_York:20170411T203000
DTSTAMP:20260421T020712
CREATED:20140813T231632Z
LAST-MODIFIED:20170406T105530Z
UID:16477-1491949800-1491957000@clarksburgbaptistchurch.com
SUMMARY:The Shine Effect at Celebrate Recovery
DESCRIPTION:On Tuesday\, April 11\, Celebrate Recovery at Clarksburg Baptist Church will be having a special night of worship led by The Shine Effect. The band will also be sharing their testimony. The Shine Effect are an energetic 3-piece Christian rock band from Jacksboro\, TN. In the past months they have been touring and blessing area Celebrate Recovery groups\, churches and fellowship events. All are welcome to attend this special worship opportunity.\n\nCelebrate Recovery is a Christ-centered\, bible-based recovery program that is designed to help us overcome our hurts\, habits\, and hang-ups including but not limited to drug and alcohol addictions\, eating disorders\, anxiety disorders\, and people who have been sexually abused. If you are looking to take a first step toward dealing with some of the hurts\, habits\, and hang-ups in your life\, then join us at Celebrate Recovery!
URL:https://clarksburgbaptistchurch.com/calendar/celebrate-recovery-2017-04-11
LOCATION:501 W. Pike St.\, Clarksburg\, WV\, 26301\, United States
GEO:39.2813201;-80.3427216
X-APPLE-STRUCTURED-LOCATION;VALUE=URI;X-ADDRESS=501 W. Pike St. Clarksburg WV 26301 United States;X-APPLE-RADIUS=500;X-TITLE=501 W. Pike St.:geo:-80.3427216,39.2813201
ATTACH;FMTTYPE=image/jpeg:https://clarksburgbaptistchurch.com/wp-content/uploads/2014/08/CBC1704-Shine-Effect.jpg
END:VEVENT
END:VCALENDAR