BEGIN:VCALENDAR
VERSION:2.0
PRODID:-//Clarksburg Baptist Church - ECPv4.3.3//NONSGML v1.0//EN
CALSCALE:GREGORIAN
METHOD:PUBLISH
X-WR-CALNAME:Clarksburg Baptist Church
X-ORIGINAL-URL:https://clarksburgbaptistchurch.com
X-WR-CALDESC:Events for Clarksburg Baptist Church
BEGIN:VEVENT
DTSTART;TZID=America/New_York:20150503T183000
DTEND;TZID=America/New_York:20150503T193000
DTSTAMP:20260419T094045
CREATED:20150418T125154Z
LAST-MODIFIED:20150429T154218Z
UID:8970-1430692200-1430695800@clarksburgbaptistchurch.com
SUMMARY:CBC101
DESCRIPTION:CBC101 is a 3-week class designed to help new and current members of the church learn what we believe at Clarksburg Baptist\, how the church operates\, and how to take the next steps in being a part of our House of God. CBC101 starts on Sunday\, May 3rd at 6:30PM in the Media Center located in the Monroe Building.\nRegister today!\n[gravityform id="21" title="false" description="false"]
URL:https://clarksburgbaptistchurch.com/calendar/cbc101/2015-05-03
LOCATION:501 W. Pike St.\, Clarksburg\, WV\, 26301\, United States
GEO:39.2813201;-80.3427216
X-APPLE-STRUCTURED-LOCATION;VALUE=URI;X-ADDRESS=501 W. Pike St. Clarksburg WV 26301 United States;X-APPLE-RADIUS=500;X-TITLE=501 W. Pike St.:geo:-80.3427216,39.2813201
CATEGORIES:Adult Ministries
ATTACH;FMTTYPE=image/jpeg:https://clarksburgbaptistchurch.com/wp-content/uploads/2015/04/CBC1504-CBC101-Slide.jpg
END:VEVENT
END:VCALENDAR