BEGIN:VCALENDAR
VERSION:2.0
PRODID:-//Clarksburg Baptist Church - ECPv4.3.3//NONSGML v1.0//EN
CALSCALE:GREGORIAN
METHOD:PUBLISH
X-WR-CALNAME:Clarksburg Baptist Church
X-ORIGINAL-URL:https://clarksburgbaptistchurch.com
X-WR-CALDESC:Events for Clarksburg Baptist Church
BEGIN:VEVENT
DTSTART;TZID=America/New_York:20151002T190000
DTEND;TZID=America/New_York:20151002T210000
DTSTAMP:20260419T210806
CREATED:20150911T161428Z
LAST-MODIFIED:20150911T161621Z
UID:9241-1443826800-1443834000@clarksburgbaptistchurch.com
SUMMARY:CBC MEN Fall Kickoff
DESCRIPTION:All men of the church are invited to the CBC MEN Fall Kickoff Event on Friday\, October 2nd at 7PM. We have a great event planned that you won’t want to miss. To register today\, please fill out the form below.\nRSVP Today!\n[gravityform id="27" title="false" description="false"]
URL:https://clarksburgbaptistchurch.com/calendar/cbc-men-fall-kickoff
LOCATION:501 W. Pike St.\, Clarksburg\, WV\, 26301\, United States
GEO:39.2813201;-80.3427216
X-APPLE-STRUCTURED-LOCATION;VALUE=URI;X-ADDRESS=501 W. Pike St. Clarksburg WV 26301 United States;X-APPLE-RADIUS=500;X-TITLE=501 W. Pike St.:geo:-80.3427216,39.2813201
CATEGORIES:Men's Ministry
ATTACH;FMTTYPE=image/jpeg:https://clarksburgbaptistchurch.com/wp-content/uploads/2015/09/CBC1509-CBC-Men-Fall-kickoff-v3.jpg
END:VEVENT
END:VCALENDAR