BEGIN:VCALENDAR
VERSION:2.0
PRODID:-//Clarksburg Baptist Church - ECPv4.3.3//NONSGML v1.0//EN
CALSCALE:GREGORIAN
METHOD:PUBLISH
X-WR-CALNAME:Clarksburg Baptist Church
X-ORIGINAL-URL:https://clarksburgbaptistchurch.com
X-WR-CALDESC:Events for Clarksburg Baptist Church
BEGIN:VEVENT
DTSTART;TZID=America/New_York:20220709T110000
DTEND;TZID=America/New_York:20220709T130000
DTSTAMP:20260419T105903
CREATED:20220629T093837Z
LAST-MODIFIED:20220629T093837Z
UID:35488-1657378800-1657386000@clarksburgbaptistchurch.com
SUMMARY:Kids Bowling
DESCRIPTION:Parents\, join us at Alley 304 on July 9 for a fun day of bowling with our CBC kids! Invite a family to join you.
URL:https://clarksburgbaptistchurch.com/calendar/kids-bowling
LOCATION:1221 E Pike St\, Clarksburg\, WV\, 26301
CATEGORIES:Children
ATTACH;FMTTYPE=image/png:https://clarksburgbaptistchurch.com/wp-content/uploads/2022/06/App-banners-1.png
END:VEVENT
END:VCALENDAR