BEGIN:VCALENDAR
VERSION:2.0
PRODID:-//Clarksburg Baptist Church - ECPv4.3.3//NONSGML v1.0//EN
CALSCALE:GREGORIAN
METHOD:PUBLISH
X-WR-CALNAME:Clarksburg Baptist Church
X-ORIGINAL-URL:https://clarksburgbaptistchurch.com
X-WR-CALDESC:Events for Clarksburg Baptist Church
BEGIN:VEVENT
DTSTART;TZID=America/New_York:20220618T190000
DTEND;TZID=America/New_York:20220618T203000
DTSTAMP:20260419T083244
CREATED:20220421T152322Z
LAST-MODIFIED:20220421T152322Z
UID:35126-1655593200-1655598600@clarksburgbaptistchurch.com
SUMMARY:VBS
DESCRIPTION:Join us for Mission:Deep Sea VBS! VBS will be at CBC June 15-17 from 6-8 PM. VBS will be at CBC on June 15-17 from 6-8 PM. Families are invited to the Splash Zone on the 18th to celebrate a great week together. Register online at clarksburgbaptistchurch.com/vbs.
URL:https://clarksburgbaptistchurch.com/calendar/vbs-2
LOCATION:WV-98\, Clarksburg\, WV\, 26301\, United States
GEO:39.2856719;-80.3343773
X-APPLE-STRUCTURED-LOCATION;VALUE=URI;X-ADDRESS=WV-98 Clarksburg WV 26301 United States;X-APPLE-RADIUS=500;X-TITLE=WV-98:geo:-80.3343773,39.2856719
CATEGORIES:Children
ATTACH;FMTTYPE=image/png:https://clarksburgbaptistchurch.com/wp-content/uploads/2022/04/App-banners-33.png
END:VEVENT
END:VCALENDAR