BEGIN:VCALENDAR
VERSION:2.0
PRODID:-//Clarksburg Baptist Church - ECPv4.3.3//NONSGML v1.0//EN
CALSCALE:GREGORIAN
METHOD:PUBLISH
X-WR-CALNAME:Clarksburg Baptist Church
X-ORIGINAL-URL:https://clarksburgbaptistchurch.com
X-WR-CALDESC:Events for Clarksburg Baptist Church
BEGIN:VEVENT
DTSTART;TZID=America/New_York:20220615T180000
DTEND;TZID=America/New_York:20220615T200000
DTSTAMP:20260419T083358
CREATED:20220421T152029Z
LAST-MODIFIED:20220421T152029Z
UID:35121-1655330400-1655337600@clarksburgbaptistchurch.com
SUMMARY:VBS
DESCRIPTION:Join us for Mission:Deep Sea VBS! VBS will be at CBC June 15-17 from 6-8 PM. VBS will be at CBC on June 15-17 from 6-8 PM. Families are invited to the Splash Zone on the 18th to celebrate a great week together. Register online at clarksburgbaptistchurch.com/vbs.
URL:https://clarksburgbaptistchurch.com/calendar/vbs/2022-06-15
LOCATION:501 W. Pike St.\, Clarksburg\, WV\, 26301\, United States
GEO:39.2813201;-80.3427216
X-APPLE-STRUCTURED-LOCATION;VALUE=URI;X-ADDRESS=501 W. Pike St. Clarksburg WV 26301 United States;X-APPLE-RADIUS=500;X-TITLE=501 W. Pike St.:geo:-80.3427216,39.2813201
CATEGORIES:Children
ATTACH;FMTTYPE=image/png:https://clarksburgbaptistchurch.com/wp-content/uploads/2022/04/App-banners-33.png
END:VEVENT
END:VCALENDAR