BEGIN:VCALENDAR
VERSION:2.0
PRODID:-//Clarksburg Baptist Church - ECPv4.3.3//NONSGML v1.0//EN
CALSCALE:GREGORIAN
METHOD:PUBLISH
X-WR-CALNAME:Clarksburg Baptist Church
X-ORIGINAL-URL:https://clarksburgbaptistchurch.com
X-WR-CALDESC:Events for Clarksburg Baptist Church
BEGIN:VEVENT
DTSTART;TZID=America/New_York:20220513T180000
DTEND;TZID=America/New_York:20220513T200000
DTSTAMP:20260419T100627
CREATED:20220421T152635Z
LAST-MODIFIED:20220421T152707Z
UID:35128-1652479200-1652486400@clarksburgbaptistchurch.com
SUMMARY:Kids Movie Night
DESCRIPTION:We are excited to host our kids for a movie night on May 13th! This is a great opportunity to invite some friends and go out to dinner with other parents. Invite a new family to join you!
URL:https://clarksburgbaptistchurch.com/calendar/kids-movie-night-5-13
LOCATION:501 W. Pike St.\, Clarksburg\, WV\, 26301\, United States
GEO:39.2813201;-80.3427216
X-APPLE-STRUCTURED-LOCATION;VALUE=URI;X-ADDRESS=501 W. Pike St. Clarksburg WV 26301 United States;X-APPLE-RADIUS=500;X-TITLE=501 W. Pike St.:geo:-80.3427216,39.2813201
CATEGORIES:Children
ATTACH;FMTTYPE=image/png:https://clarksburgbaptistchurch.com/wp-content/uploads/2022/04/App-banners-34.png
END:VEVENT
END:VCALENDAR