BEGIN:VCALENDAR
VERSION:2.0
PRODID:-//Clarksburg Baptist Church - ECPv4.3.3//NONSGML v1.0//EN
CALSCALE:GREGORIAN
METHOD:PUBLISH
X-WR-CALNAME:Clarksburg Baptist Church
X-ORIGINAL-URL:https://clarksburgbaptistchurch.com
X-WR-CALDESC:Events for Clarksburg Baptist Church
BEGIN:VEVENT
DTSTART;TZID=America/New_York:20220220T113000
DTEND;TZID=America/New_York:20220220T113000
DTSTAMP:20260419T135633
CREATED:20220202T143100Z
LAST-MODIFIED:20220218T094508Z
UID:34606-1645374600-1645374600@clarksburgbaptistchurch.com
SUMMARY:CBC Kids Volunteer Appreciation Lunch
DESCRIPTION:CBC Kids volunteers\, join us for an appreciation lunch in Monroe immediately following the service on Sunday\, February 20.We want to show our gratitude for the impact you are making on our kids\, as well as talk about what we’re praying for this year.
URL:https://clarksburgbaptistchurch.com/calendar/cbc-kids-volunteer-appreciation-lunch
LOCATION:501 W. Pike St.\, Clarksburg\, WV\, 26301\, United States
GEO:39.2813201;-80.3427216
X-APPLE-STRUCTURED-LOCATION;VALUE=URI;X-ADDRESS=501 W. Pike St. Clarksburg WV 26301 United States;X-APPLE-RADIUS=500;X-TITLE=501 W. Pike St.:geo:-80.3427216,39.2813201
CATEGORIES:Children
ATTACH;FMTTYPE=image/png:https://clarksburgbaptistchurch.com/wp-content/uploads/2022/02/App-banners-22.png
END:VEVENT
END:VCALENDAR