BEGIN:VCALENDAR
VERSION:2.0
PRODID:-//Clarksburg Baptist Church - ECPv4.3.3//NONSGML v1.0//EN
CALSCALE:GREGORIAN
METHOD:PUBLISH
X-WR-CALNAME:Clarksburg Baptist Church
X-ORIGINAL-URL:https://clarksburgbaptistchurch.com
X-WR-CALDESC:Events for Clarksburg Baptist Church
BEGIN:VEVENT
DTSTART;TZID=America/New_York:20211030T090000
DTEND;TZID=America/New_York:20211030T170000
DTSTAMP:20260419T195317
CREATED:20211013T120100Z
LAST-MODIFIED:20211014T154444Z
UID:34202-1635598800-1635627600@clarksburgbaptistchurch.com
SUMMARY:The Great Pumpkin Delivers
DESCRIPTION:The Great Pumpkin is back and will be delivering candy to your children on October 30th. To sign up\, please visit www.clarksburgbaptistchurch.com/greatpumpkin. The deadline to sign up is October 27th.
URL:https://clarksburgbaptistchurch.com/calendar/great-pumpkin-delivers
LOCATION:501 W. Pike St.\, Clarksburg\, WV\, 26301\, United States
GEO:39.2813201;-80.3427216
X-APPLE-STRUCTURED-LOCATION;VALUE=URI;X-ADDRESS=501 W. Pike St. Clarksburg WV 26301 United States;X-APPLE-RADIUS=500;X-TITLE=501 W. Pike St.:geo:-80.3427216,39.2813201
CATEGORIES:Children
ATTACH;FMTTYPE=image/png:https://clarksburgbaptistchurch.com/wp-content/uploads/2021/10/App-banners-6.png
END:VEVENT
END:VCALENDAR