BEGIN:VCALENDAR
VERSION:2.0
PRODID:-//Clarksburg Baptist Church - ECPv4.3.3//NONSGML v1.0//EN
CALSCALE:GREGORIAN
METHOD:PUBLISH
X-WR-CALNAME:Clarksburg Baptist Church
X-ORIGINAL-URL:https://clarksburgbaptistchurch.com
X-WR-CALDESC:Events for Clarksburg Baptist Church
BEGIN:VEVENT
DTSTART;TZID=America/New_York:20211008T190000
DTEND;TZID=America/New_York:20211008T200000
DTSTAMP:20260419T201244
CREATED:20211005T141549Z
LAST-MODIFIED:20211005T141549Z
UID:34125-1633734000-1633737600@clarksburgbaptistchurch.com
SUMMARY:Live Painting with Pastor Josh
DESCRIPTION:Families\, get your art supplies ready for Live Painting with Pastor Josh on October 8th at 7 PM! Tune into the CBC Kids Facebook page as we paint a picture together.
URL:https://clarksburgbaptistchurch.com/calendar/live-painting-pastor-josh
CATEGORIES:Children
ATTACH;FMTTYPE=image/png:https://clarksburgbaptistchurch.com/wp-content/uploads/2021/10/App-banners-2.png
END:VEVENT
END:VCALENDAR