BEGIN:VCALENDAR
VERSION:2.0
PRODID:-//Clarksburg Baptist Church - ECPv4.3.3//NONSGML v1.0//EN
CALSCALE:GREGORIAN
METHOD:PUBLISH
X-WR-CALNAME:Clarksburg Baptist Church
X-ORIGINAL-URL:https://clarksburgbaptistchurch.com
X-WR-CALDESC:Events for Clarksburg Baptist Church
BEGIN:VEVENT
DTSTART;TZID=America/New_York:20210807T140000
DTEND;TZID=America/New_York:20210807T170000
DTSTAMP:20260419T224539
CREATED:20210623T103335Z
LAST-MODIFIED:20210722T150916Z
UID:31945-1628359200-1628370000@clarksburgbaptistchurch.com
SUMMARY:CBC Kids Water Day
DESCRIPTION:Families\, come join us for our CBC Kids Water Day on August 7th at Clarksburg City Park in Nutter Fort. It's going to be a fun day of water games and spending time together!
URL:https://clarksburgbaptistchurch.com/calendar/cbc-kids-water-day
LOCATION:1 Clarksburg Park Way\, Nutter Fort\, WV\, 26301\, United States
CATEGORIES:Children
ATTACH;FMTTYPE=image/png:https://clarksburgbaptistchurch.com/wp-content/uploads/2021/06/CBC-KIDS-WATER-DAY.png
END:VEVENT
END:VCALENDAR