BEGIN:VCALENDAR
VERSION:2.0
PRODID:-//Clarksburg Baptist Church - ECPv4.3.3//NONSGML v1.0//EN
CALSCALE:GREGORIAN
METHOD:PUBLISH
X-WR-CALNAME:Clarksburg Baptist Church
X-ORIGINAL-URL:https://clarksburgbaptistchurch.com
X-WR-CALDESC:Events for Clarksburg Baptist Church
BEGIN:VEVENT
DTSTART;TZID=America/New_York:20200503T111500
DTEND;TZID=America/New_York:20200503T121500
DTSTAMP:20260420T223414
CREATED:20141110T161453Z
LAST-MODIFIED:20210805T135003Z
UID:22093-1588518900-1588522500@clarksburgbaptistchurch.com
SUMMARY:LifeGroups
DESCRIPTION:LifeGroups provide opportunities to grow in your knowledge and application of Scripture.
URL:https://clarksburgbaptistchurch.com/calendar/lifegroups-2016-06-12-2017-11-05-2018-03-25-2018-11-04
LOCATION:501 W. Pike St.\, Clarksburg\, WV\, 26301\, United States
GEO:39.2813201;-80.3427216
X-APPLE-STRUCTURED-LOCATION;VALUE=URI;X-ADDRESS=501 W. Pike St. Clarksburg WV 26301 United States;X-APPLE-RADIUS=500;X-TITLE=501 W. Pike St.:geo:-80.3427216,39.2813201
CATEGORIES:Adult Ministries,Children,Family,LifeGroups,StudentLife Ministry
ATTACH;FMTTYPE=image/jpeg:https://clarksburgbaptistchurch.com/wp-content/uploads/2014/08/Clarksburg-Baptist-Lifegroups.jpg
END:VEVENT
END:VCALENDAR