BEGIN:VCALENDAR
VERSION:2.0
PRODID:-//Clarksburg Baptist Church - ECPv4.3.3//NONSGML v1.0//EN
CALSCALE:GREGORIAN
METHOD:PUBLISH
X-WR-CALNAME:Clarksburg Baptist Church
X-ORIGINAL-URL:https://clarksburgbaptistchurch.com
X-WR-CALDESC:Events for Clarksburg Baptist Church
BEGIN:VEVENT
DTSTART;TZID=America/New_York:20181104T121500
DTEND;TZID=America/New_York:20181104T131500
DTSTAMP:20260422T030231
CREATED:20140813T233940Z
LAST-MODIFIED:20190407T133002Z
UID:22228-1541351700-1541355300@clarksburgbaptistchurch.com
SUMMARY:Clubhouse252
DESCRIPTION:Clubhouse252 is a Sunday morning environment for elementary-aged kids (K-5th grade) that includes an engaging large group gathering for worship and teaching\, alongside a more personal small group time with adult leaders.
URL:https://clarksburgbaptistchurch.com/calendar/clubhouse252-2016-06-12-2017-11-05-2018-03-25-2018-11-04/2018-11-04
LOCATION:501 W. Pike St.\, Clarksburg\, WV\, 26301\, United States
GEO:39.2813201;-80.3427216
X-APPLE-STRUCTURED-LOCATION;VALUE=URI;X-ADDRESS=501 W. Pike St. Clarksburg WV 26301 United States;X-APPLE-RADIUS=500;X-TITLE=501 W. Pike St.:geo:-80.3427216,39.2813201
CATEGORIES:Children,Family
END:VEVENT
END:VCALENDAR