BEGIN:VCALENDAR
VERSION:2.0
PRODID:-//Clarksburg Baptist Church - ECPv4.3.3//NONSGML v1.0//EN
CALSCALE:GREGORIAN
METHOD:PUBLISH
X-WR-CALNAME:Clarksburg Baptist Church
X-ORIGINAL-URL:https://clarksburgbaptistchurch.com
X-WR-CALDESC:Events for Clarksburg Baptist Church
BEGIN:VEVENT
DTSTART;TZID=America/New_York:20170419T183000
DTEND;TZID=America/New_York:20170419T200000
DTSTAMP:20260421T063842
CREATED:20170410T125713Z
LAST-MODIFIED:20170410T125730Z
UID:16610-1492641000-1492646400@clarksburgbaptistchurch.com
SUMMARY:Annual Business Meeting
DESCRIPTION:The Annual Business Meeting of Clarksburg Baptist Church will be held on Wednesday\, April 19 at 6:30pm in the Sanctuary. This is a great opportunity for members of the church to come out and hear updates from the various ministries and commissions\, as well as consider a proposed amendment to the church by-laws. All members are encouraged to attend.
URL:https://clarksburgbaptistchurch.com/calendar/annual-business-meeting-2017
LOCATION:501 W. Pike St.\, Clarksburg\, WV\, 26301\, United States
GEO:39.2813201;-80.3427216
X-APPLE-STRUCTURED-LOCATION;VALUE=URI;X-ADDRESS=501 W. Pike St. Clarksburg WV 26301 United States;X-APPLE-RADIUS=500;X-TITLE=501 W. Pike St.:geo:-80.3427216,39.2813201
ATTACH;FMTTYPE=image/jpeg:https://clarksburgbaptistchurch.com/wp-content/uploads/2017/04/CBC1704-Annual-Business-Meeting.jpg
END:VEVENT
END:VCALENDAR